BEGIN:VCALENDAR
VERSION:2.0
PRODID:-//Aiboland - ECPv6.15.15//NONSGML v1.0//EN
CALSCALE:GREGORIAN
METHOD:PUBLISH
X-WR-CALNAME:Aiboland
X-ORIGINAL-URL:https://visitaiboland.ee/?lang=sv
X-WR-CALDESC:Händelser för Aiboland
REFRESH-INTERVAL;VALUE=DURATION:PT1H
X-Robots-Tag:noindex
X-PUBLISHED-TTL:PT1H
BEGIN:VTIMEZONE
TZID:Europe/Tallinn
BEGIN:DAYLIGHT
TZOFFSETFROM:+0200
TZOFFSETTO:+0300
TZNAME:EEST
DTSTART:20240331T010000
END:DAYLIGHT
BEGIN:STANDARD
TZOFFSETFROM:+0300
TZOFFSETTO:+0200
TZNAME:EET
DTSTART:20241027T010000
END:STANDARD
BEGIN:DAYLIGHT
TZOFFSETFROM:+0200
TZOFFSETTO:+0300
TZNAME:EEST
DTSTART:20250330T010000
END:DAYLIGHT
BEGIN:STANDARD
TZOFFSETFROM:+0300
TZOFFSETTO:+0200
TZNAME:EET
DTSTART:20251026T010000
END:STANDARD
BEGIN:DAYLIGHT
TZOFFSETFROM:+0200
TZOFFSETTO:+0300
TZNAME:EEST
DTSTART:20260329T010000
END:DAYLIGHT
BEGIN:STANDARD
TZOFFSETFROM:+0300
TZOFFSETTO:+0200
TZNAME:EET
DTSTART:20261025T010000
END:STANDARD
END:VTIMEZONE
BEGIN:VEVENT
DTSTART;TZID=Europe/Tallinn:20251106T120000
DTEND;TZID=Europe/Tallinn:20251108T183000
DTSTAMP:20260424T165629
CREATED:20241113T102109Z
LAST-MODIFIED:20250130T090212Z
UID:22741-1762430400-1762626600@visitaiboland.ee
SUMMARY:Mårtens marknad i Tallinn. Huvudgästen - Aiboland.
DESCRIPTION:
URL:https://visitaiboland.ee/sundmus/martens-marknad-i-tallinn-huvudgasten-aiboland/?lang=sv
ORGANIZER;CN="Eesti K%C3%A4sit%C3%B6%C3%B6 ja Rahvakunsti Liit":MAILTO:info@folkart.ee
END:VEVENT
BEGIN:VEVENT
DTSTART;VALUE=DATE:20250822
DTEND;VALUE=DATE:20250825
DTSTAMP:20260424T165629
CREATED:20250515T112020Z
LAST-MODIFIED:20250515T112020Z
UID:23526-1755820800-1756079999@visitaiboland.ee
SUMMARY:Festivalen Ruhnu Rahu
DESCRIPTION:
URL:https://visitaiboland.ee/sundmus/festivalen-ruhnu-rahu/?lang=sv
END:VEVENT
BEGIN:VEVENT
DTSTART;VALUE=DATE:20250816
DTEND;VALUE=DATE:20250817
DTSTAMP:20260424T165629
CREATED:20250711T114007Z
LAST-MODIFIED:20250711T114007Z
UID:23698-1755302400-1755388799@visitaiboland.ee
SUMMARY:\,\,Bernhard Schmidt - uppfinnaren från Nargö" bokpresentation på astronomifestivalen
DESCRIPTION:Bokpresentationens program här Kava – Astronoomiafestival 2025
URL:https://visitaiboland.ee/sundmus/bernhard-schmidt-uppfinnaren-fran-nargo-bokpresentation-pa-astronomifestivalen/?lang=sv
END:VEVENT
BEGIN:VEVENT
DTSTART;TZID=Europe/Tallinn:20250809T120000
DTEND;TZID=Europe/Tallinn:20250809T150000
DTSTAMP:20260424T165629
CREATED:20250130T090050Z
LAST-MODIFIED:20250130T090050Z
UID:22941-1754740800-1754751600@visitaiboland.ee
SUMMARY:HAPSAL  Gamla hamnens marknad\, rökt fisk –vid Aibolands museum.
DESCRIPTION:Gamla hamnens marknad\, rökt fisk –vid Aibolands museum.
URL:https://visitaiboland.ee/sundmus/hapsal-gamla-hamnens-marknad-rokt-fisk-vid-aibolands-museum-2/?lang=sv
END:VEVENT
BEGIN:VEVENT
DTSTART;VALUE=DATE:20250801
DTEND;VALUE=DATE:20250802
DTSTAMP:20260424T165629
CREATED:20250212T173705Z
LAST-MODIFIED:20250212T173705Z
UID:22963-1754006400-1754092799@visitaiboland.ee
SUMMARY:Eesti Rahva Muuseum ERM i Dorpat/Tartu planerar att anordna guidning på svenska denna dag av utställningen “Estlandssvenskar”.
DESCRIPTION:
URL:https://visitaiboland.ee/sundmus/eesti-rahva-muuseum-erm-i-dorpat-tartu-planerar-att-anordna-guidning-pa-svenska-denna-dag-av-utstallningen-estlandssvenskar-3/?lang=sv
END:VEVENT
BEGIN:VEVENT
DTSTART;VALUE=DATE:20250729
DTEND;VALUE=DATE:20250730
DTSTAMP:20260424T165629
CREATED:20250103T090818Z
LAST-MODIFIED:20250103T090818Z
UID:22779-1753747200-1753833599@visitaiboland.ee
SUMMARY:ORMSÖ Gudstjänst i S:t Olofskyrkan med efterföljande kaffe på hembygdsgården i Sviby
DESCRIPTION:
URL:https://visitaiboland.ee/sundmus/ormso-gudstjanst-i-st-olofskyrkan-med-efterfoljande-kaffe-pa-hembygdsgarden-i-sviby/?lang=sv
END:VEVENT
BEGIN:VEVENT
DTSTART;VALUE=DATE:20250728
DTEND;VALUE=DATE:20250730
DTSTAMP:20260424T165629
CREATED:20250103T090305Z
LAST-MODIFIED:20250103T090305Z
UID:22770-1753660800-1753833599@visitaiboland.ee
SUMMARY:ORMSÖ Hembygdsgården på Ormsö firar 25-årsjubileum
DESCRIPTION:
URL:https://visitaiboland.ee/sundmus/ormso-hembygdsgarden-pa-ormso-firar-25-arsjubileum/?lang=sv
END:VEVENT
BEGIN:VEVENT
DTSTART;VALUE=DATE:20250728
DTEND;VALUE=DATE:20250729
DTSTAMP:20260424T165629
CREATED:20250103T090701Z
LAST-MODIFIED:20250103T090701Z
UID:22777-1753660800-1753747199@visitaiboland.ee
SUMMARY:ORMSÖ Midnattsmässa i S:t Olofskyrkan
DESCRIPTION:
URL:https://visitaiboland.ee/sundmus/ormso-midnattsmassa-i-st-olofskyrkan/?lang=sv
END:VEVENT
BEGIN:VEVENT
DTSTART;VALUE=DATE:20250727
DTEND;VALUE=DATE:20250728
DTSTAMP:20260424T165629
CREATED:20250322T192829Z
LAST-MODIFIED:20250322T192829Z
UID:23131-1753574400-1753660799@visitaiboland.ee
SUMMARY:NARGÖ Nargödagen med gudstjänst i Nargö kapell och andakt på kyrkogården
DESCRIPTION:
URL:https://visitaiboland.ee/sundmus/nargo-nargodagen-med-gudstjanst-i-nargo-kapell-och-andakt-pa-kyrkogarden/?lang=sv
END:VEVENT
BEGIN:VEVENT
DTSTART;TZID=Europe/Tallinn:20250726T130000
DTEND;TZID=Europe/Tallinn:20250726T180000
DTSTAMP:20260424T165629
CREATED:20250103T090441Z
LAST-MODIFIED:20250421T080224Z
UID:22772-1753534800-1753552800@visitaiboland.ee
SUMMARY:ORMSÖ Ormsökistan i Sviby
DESCRIPTION:Nästa samling Ormsökistan –  mötesplats för estlandssvenskar och ester. En samling för anmälda kl 13-16.30 och en offentlig\, öppen samling med berättelser\, sånger från festivalen mm kl 17-18.
URL:https://visitaiboland.ee/sundmus/ormso/?lang=sv
END:VEVENT
BEGIN:VEVENT
DTSTART;VALUE=DATE:20250726
DTEND;VALUE=DATE:20250727
DTSTAMP:20260424T165629
CREATED:20250322T192352Z
LAST-MODIFIED:20250322T192352Z
UID:23127-1753488000-1753574399@visitaiboland.ee
SUMMARY:ORMSÖ Rällby marknad
DESCRIPTION:
URL:https://visitaiboland.ee/sundmus/ormso-rallby-marknad/?lang=sv
END:VEVENT
BEGIN:VEVENT
DTSTART;VALUE=DATE:20250722
DTEND;VALUE=DATE:20250723
DTSTAMP:20260424T165629
CREATED:20250711T113658Z
LAST-MODIFIED:20250711T113658Z
UID:23696-1753142400-1753228799@visitaiboland.ee
SUMMARY:\,\,Estlandssvenskarnas folkdräkter" bokpresentation i Tallinn
DESCRIPTION:
URL:https://visitaiboland.ee/sundmus/estlandssvenskarnas-folkdrakter-bokpresentation-i-tallinn/?lang=sv
END:VEVENT
BEGIN:VEVENT
DTSTART;VALUE=DATE:20250720
DTEND;VALUE=DATE:20250721
DTSTAMP:20260424T165629
CREATED:20250520T081418Z
LAST-MODIFIED:20250520T081418Z
UID:23536-1752969600-1753055999@visitaiboland.ee
SUMMARY:Vilivallas kyrkogårdsdag
DESCRIPTION:Öppnas en utställning om områdets historia.
URL:https://visitaiboland.ee/sundmus/vilivallas-kyrkogardsdag/?lang=sv
END:VEVENT
BEGIN:VEVENT
DTSTART;VALUE=DATE:20250714
DTEND;VALUE=DATE:20250715
DTSTAMP:20260424T165629
CREATED:20250527T091629Z
LAST-MODIFIED:20250527T091629Z
UID:23548-1752451200-1752537599@visitaiboland.ee
SUMMARY:Rågöarnas 8:e ting
DESCRIPTION:
URL:https://visitaiboland.ee/sundmus/ragoarnas-8e-ting/?lang=sv
END:VEVENT
BEGIN:VEVENT
DTSTART;VALUE=DATE:20250713
DTEND;VALUE=DATE:20250716
DTSTAMP:20260424T165629
CREATED:20250518T080643Z
LAST-MODIFIED:20250609T125922Z
UID:23530-1752364800-1752623999@visitaiboland.ee
SUMMARY:Stick-talko på Runö
DESCRIPTION:
URL:https://visitaiboland.ee/sundmus/stick-talko-pa-runo/?lang=sv
END:VEVENT
BEGIN:VEVENT
DTSTART;VALUE=DATE:20250712
DTEND;VALUE=DATE:20250713
DTSTAMP:20260424T165629
CREATED:20250322T193259Z
LAST-MODIFIED:20250322T193259Z
UID:23136-1752278400-1752364799@visitaiboland.ee
SUMMARY:NARGÖ Kustfolksfestival
DESCRIPTION:
URL:https://visitaiboland.ee/sundmus/nargo-kustfolksfestival/?lang=sv
END:VEVENT
BEGIN:VEVENT
DTSTART;VALUE=DATE:20250708
DTEND;VALUE=DATE:20250716
DTSTAMP:20260424T165629
CREATED:20250206T170722Z
LAST-MODIFIED:20250322T192121Z
UID:22948-1751932800-1752623999@visitaiboland.ee
SUMMARY:RUNÖ fiolläger
DESCRIPTION:Den traditionella fiolläger på Runö.
URL:https://visitaiboland.ee/sundmus/runos-fiollager/?lang=sv
END:VEVENT
BEGIN:VEVENT
DTSTART;VALUE=DATE:20250708
DTEND;VALUE=DATE:20250709
DTSTAMP:20260424T165629
CREATED:20250212T173440Z
LAST-MODIFIED:20250212T173440Z
UID:22956-1751932800-1752019199@visitaiboland.ee
SUMMARY:Eesti Rahva Muuseum ERM i Dorpat/Tartu planerar att anordna guidning på svenska denna dag av utställningen “Estlandssvenskar”
DESCRIPTION:
URL:https://visitaiboland.ee/sundmus/eesti-rahva-muuseum-erm-i-dorpat-tartu-planerar-att-anordna-guidning-pa-svenska-denna-dag-av-utstallningen-estlandssvenskar/?lang=sv
END:VEVENT
BEGIN:VEVENT
DTSTART;VALUE=DATE:20250707
DTEND;VALUE=DATE:20250714
DTSTAMP:20260424T165629
CREATED:20250322T191715Z
LAST-MODIFIED:20250322T192246Z
UID:23122-1751846400-1752451199@visitaiboland.ee
SUMMARY:NUCKÖ Rickul/ Nuckö Hbf firar hemvändarveckan
DESCRIPTION:
URL:https://visitaiboland.ee/sundmus/nucko-rickul-nucko-hbf-firar-hemvandarveckan/?lang=sv
END:VEVENT
BEGIN:VEVENT
DTSTART;VALUE=DATE:20250703
DTEND;VALUE=DATE:20250707
DTSTAMP:20260424T165629
CREATED:20250103T090127Z
LAST-MODIFIED:20250103T090127Z
UID:22767-1751500800-1751846399@visitaiboland.ee
SUMMARY:Tallinn Den 28:e sångfesten och 21:a dansfesten
DESCRIPTION:Den 28:e sång- och 21.adansfesten hålls i Tallinn. Hemsidan Home – XXVIII Laulu- ja XXI tantsupidu
URL:https://visitaiboland.ee/sundmus/tallinn-den-28e-sangfesten-och-21a-dansfesten/?lang=sv
END:VEVENT
BEGIN:VEVENT
DTSTART;VALUE=DATE:20250703
DTEND;VALUE=DATE:20250707
DTSTAMP:20260424T165629
CREATED:20250322T191527Z
LAST-MODIFIED:20250322T191527Z
UID:23120-1751500800-1751846399@visitaiboland.ee
SUMMARY:Den 28:e sång- och dansfestivalen i Tallinn
DESCRIPTION:
URL:https://visitaiboland.ee/sundmus/den-28e-sang-och-dansfestivalen-i-tallinn/?lang=sv
END:VEVENT
BEGIN:VEVENT
DTSTART;VALUE=DATE:20250701
DTEND;VALUE=DATE:20250821
DTSTAMP:20260424T165629
CREATED:20250707T081643Z
LAST-MODIFIED:20250707T081643Z
UID:23658-1751328000-1755734399@visitaiboland.ee
SUMMARY:Utställningen om röickssvenskarnas förlorade paradis „GENIUS LOCI VI. PARADIIS. 1470. 1975. 2025” i Röicks prästgård
DESCRIPTION:
URL:https://visitaiboland.ee/sundmus/utstallningen-om-roickssvenskarnas-forlorade-paradis-genius-loci-vi-paradiis-1470-1975-2025-i-roicks-prastgard/?lang=sv
LOCATION:Näitus\, Muuseumi tee 2\, Tartu\, Eesti\, 60532\, Estonia
ATTACH;FMTTYPE=application/pdf:https://visitaiboland.ee/wp-content/uploads/2025/07/poster_A4-1.pdf
END:VEVENT
BEGIN:VEVENT
DTSTART;VALUE=DATE:20250701
DTEND;VALUE=DATE:20250703
DTSTAMP:20260424T165629
CREATED:20250322T191356Z
LAST-MODIFIED:20250322T191356Z
UID:23118-1751328000-1751500799@visitaiboland.ee
SUMMARY:ESTO pågår i Tallinn
DESCRIPTION:
URL:https://visitaiboland.ee/sundmus/esto-pagar-i-tallinn/?lang=sv
END:VEVENT
BEGIN:VEVENT
DTSTART;VALUE=DATE:20250628
DTEND;VALUE=DATE:20250701
DTSTAMP:20260424T165629
CREATED:20250322T191302Z
LAST-MODIFIED:20250322T191302Z
UID:23116-1751068800-1751327999@visitaiboland.ee
SUMMARY:ESTO fortsätter i Narva
DESCRIPTION:
URL:https://visitaiboland.ee/sundmus/esto-fortsatter-i-narva/?lang=sv
END:VEVENT
BEGIN:VEVENT
DTSTART;VALUE=DATE:20250626
DTEND;VALUE=DATE:20250703
DTSTAMP:20260424T165629
CREATED:20250103T085713Z
LAST-MODIFIED:20250103T085713Z
UID:22765-1750896000-1751500799@visitaiboland.ee
SUMMARY:ESTO Stockholm\, Narva och Tallinn
DESCRIPTION:Internationella ESTO-festivalen invigs på Skansen i Stockholm 26 juni. Den flyttar därefter till Narva (28 juni) och Tallinn (1-2 juli). Se mer information på hemsidan https://estofestival.com/en/ 
URL:https://visitaiboland.ee/sundmus/esto-stockholm-narva-och-tallinn/?lang=sv
END:VEVENT
BEGIN:VEVENT
DTSTART;VALUE=DATE:20250626
DTEND;VALUE=DATE:20250627
DTSTAMP:20260424T165629
CREATED:20250322T191135Z
LAST-MODIFIED:20250322T191135Z
UID:23114-1750896000-1750982399@visitaiboland.ee
SUMMARY:ESTO 2025-festivalen invigs på Skansen i Stockholm
DESCRIPTION:
URL:https://visitaiboland.ee/sundmus/esto-2025-festivalen-invigs-pa-skansen-i-stockholm/?lang=sv
END:VEVENT
BEGIN:VEVENT
DTSTART;VALUE=DATE:20250623
DTEND;VALUE=DATE:20250625
DTSTAMP:20260424T165629
CREATED:20250322T190944Z
LAST-MODIFIED:20250322T190944Z
UID:23112-1750636800-1750809599@visitaiboland.ee
SUMMARY:Midsommarhelg i Estland
DESCRIPTION:
URL:https://visitaiboland.ee/sundmus/midsommarhelg-i-estland/?lang=sv
END:VEVENT
BEGIN:VEVENT
DTSTART;TZID=Europe/Tallinn:20250621T120000
DTEND;TZID=Europe/Tallinn:20250621T140000
DTSTAMP:20260424T165629
CREATED:20250527T094130Z
LAST-MODIFIED:20250527T094130Z
UID:23558-1750507200-1750514400@visitaiboland.ee
SUMMARY:Kustsvenskarnas kulturdag till våra Ukraina vänner vid Aibolands museum
DESCRIPTION:Rökt fisk\, levande musik.
URL:https://visitaiboland.ee/sundmus/kustsvenskarnas-kulturdag-till-vara-ukraina-vanner-vid-aibolands-museum/?lang=sv
END:VEVENT
BEGIN:VEVENT
DTSTART;VALUE=DATE:20250620
DTEND;VALUE=DATE:20250621
DTSTAMP:20260424T165629
CREATED:20250322T190815Z
LAST-MODIFIED:20250322T190815Z
UID:23110-1750377600-1750463999@visitaiboland.ee
SUMMARY:Midsommarafton i Sverige
DESCRIPTION:
URL:https://visitaiboland.ee/sundmus/midsommarafton-i-sverige/?lang=sv
END:VEVENT
BEGIN:VEVENT
DTSTART;VALUE=DATE:20250606
DTEND;VALUE=DATE:20250607
DTSTAMP:20260424T165629
CREATED:20250322T190712Z
LAST-MODIFIED:20250322T190712Z
UID:23108-1749168000-1749254399@visitaiboland.ee
SUMMARY:Sveriges nationaldag
DESCRIPTION:
URL:https://visitaiboland.ee/sundmus/sveriges-nationaldag/?lang=sv
END:VEVENT
END:VCALENDAR