BEGIN:VCALENDAR
VERSION:2.0
PRODID:-//Aiboland - ECPv6.15.15//NONSGML v1.0//EN
CALSCALE:GREGORIAN
METHOD:PUBLISH
X-ORIGINAL-URL:https://visitaiboland.ee
X-WR-CALDESC:Events for Aiboland
REFRESH-INTERVAL;VALUE=DURATION:PT1H
X-Robots-Tag:noindex
X-PUBLISHED-TTL:PT1H
BEGIN:VTIMEZONE
TZID:Europe/Tallinn
BEGIN:DAYLIGHT
TZOFFSETFROM:+0200
TZOFFSETTO:+0300
TZNAME:EEST
DTSTART:20230326T010000
END:DAYLIGHT
BEGIN:STANDARD
TZOFFSETFROM:+0300
TZOFFSETTO:+0200
TZNAME:EET
DTSTART:20231029T010000
END:STANDARD
BEGIN:DAYLIGHT
TZOFFSETFROM:+0200
TZOFFSETTO:+0300
TZNAME:EEST
DTSTART:20240331T010000
END:DAYLIGHT
BEGIN:STANDARD
TZOFFSETFROM:+0300
TZOFFSETTO:+0200
TZNAME:EET
DTSTART:20241027T010000
END:STANDARD
BEGIN:DAYLIGHT
TZOFFSETFROM:+0200
TZOFFSETTO:+0300
TZNAME:EEST
DTSTART:20250330T010000
END:DAYLIGHT
BEGIN:STANDARD
TZOFFSETFROM:+0300
TZOFFSETTO:+0200
TZNAME:EET
DTSTART:20251026T010000
END:STANDARD
BEGIN:DAYLIGHT
TZOFFSETFROM:+0200
TZOFFSETTO:+0300
TZNAME:EEST
DTSTART:20260329T010000
END:DAYLIGHT
BEGIN:STANDARD
TZOFFSETFROM:+0300
TZOFFSETTO:+0200
TZNAME:EET
DTSTART:20261025T010000
END:STANDARD
END:VTIMEZONE
BEGIN:VEVENT
DTSTART;TZID=Europe/Tallinn:20250517T180000
DTEND;TZID=Europe/Tallinn:20250517T230000
DTSTAMP:20260424T232829
CREATED:20250130T081139Z
LAST-MODIFIED:20250130T081139Z
UID:22907-1747504800-1747522800@visitaiboland.ee
SUMMARY:HAAPSALU Muuseumiöö Rannarootsi Muuseumis
DESCRIPTION:Muuseumiöö\, „Öös on raamatut“. Elav hiiu kandle muusika. Muuseumikohvik. Õnneloos.
URL:https://visitaiboland.ee/sundmus/haapsalu-muuseumioo-rannarootsi-muuseumis/
END:VEVENT
BEGIN:VEVENT
DTSTART;VALUE=DATE:20250516
DTEND;VALUE=DATE:20250518
DTSTAMP:20260424T232829
CREATED:20250322T175649Z
LAST-MODIFIED:20250322T175649Z
UID:23074-1747353600-1747526399@visitaiboland.ee
SUMMARY:VORMSI Talgud Vormsi Talumuuseumis
DESCRIPTION:
URL:https://visitaiboland.ee/sundmus/vormsi-talgud-vormsi-talumuuseumis/
END:VEVENT
BEGIN:VEVENT
DTSTART;VALUE=DATE:20250506
DTEND;VALUE=DATE:20250509
DTSTAMP:20260424T232829
CREATED:20250130T080934Z
LAST-MODIFIED:20250130T080934Z
UID:22905-1746489600-1746748799@visitaiboland.ee
SUMMARY:RUHNU Talgud Korsi talus
DESCRIPTION:Korsitalu talgud Ruhnus.
URL:https://visitaiboland.ee/sundmus/ruhnu-talgud-korsi-talus/
END:VEVENT
BEGIN:VEVENT
DTSTART;TZID=Europe/Tallinn:20250503T150000
DTEND;TZID=Europe/Tallinn:20250503T190000
DTSTAMP:20260424T232829
CREATED:20250322T155016Z
LAST-MODIFIED:20250322T184130Z
UID:22985-1746284400-1746298800@visitaiboland.ee
SUMMARY:STOCKHOLM Marcus Wallén tutvustab raamatut \,\,Falkens flykt" Eesti Majas
DESCRIPTION:Rootsis toimuvate ürituste kellaajad on rootsi aja järgi.
URL:https://visitaiboland.ee/sundmus/marcus-wallen-tutvustab-raamatut-falkens-flykt-eesti-majas/
END:VEVENT
BEGIN:VEVENT
DTSTART;TZID=Europe/Tallinn:20250426T120000
DTEND;TZID=Europe/Tallinn:20250426T150000
DTSTAMP:20260424T232829
CREATED:20250130T080802Z
LAST-MODIFIED:20250130T080802Z
UID:22903-1745668800-1745679600@visitaiboland.ee
SUMMARY:HAAPSALU Suitsuräime tegu
DESCRIPTION:Suitsuräime tegu ja Vanasadama turg. Rannarootsi muuseumis
URL:https://visitaiboland.ee/sundmus/haapsalu-suitsuraime-tegu/
END:VEVENT
BEGIN:VEVENT
DTSTART;VALUE=DATE:20250420
DTEND;VALUE=DATE:20250421
DTSTAMP:20260424T232829
CREATED:20250322T172245Z
LAST-MODIFIED:20250322T183408Z
UID:23056-1745107200-1745193599@visitaiboland.ee
SUMMARY:NAISSAAR Ülestõusmispühade jumalateenistus Naissaare kabelis
DESCRIPTION:
URL:https://visitaiboland.ee/sundmus/ulestousmispuhade-jumalateenistus-naissaare-puha-maarja-kabelis/
END:VEVENT
BEGIN:VEVENT
DTSTART;TZID=Europe/Tallinn:20250419T230000
DTEND;TZID=Europe/Tallinn:20250420T000000
DTSTAMP:20260424T232829
CREATED:20250322T172106Z
LAST-MODIFIED:20250322T182850Z
UID:23054-1745103600-1745107200@visitaiboland.ee
SUMMARY:NAISSAAR Ülestõusmispühade öömissa Naissaare kabelis
DESCRIPTION:
URL:https://visitaiboland.ee/sundmus/ulestousmispuhade-oomissa-naissaare-puha-maarja-kabelis/
END:VEVENT
BEGIN:VEVENT
DTSTART;VALUE=DATE:20250418
DTEND;VALUE=DATE:20250419
DTSTAMP:20260424T232829
CREATED:20250322T171834Z
LAST-MODIFIED:20250322T181535Z
UID:23052-1744934400-1745020799@visitaiboland.ee
SUMMARY:NAISSAAR Suure Reede missa Naissaare Püha Maarja kabelis
DESCRIPTION:
URL:https://visitaiboland.ee/sundmus/suure-reede-missa-naissaare-puha-maarja-kabelis/
END:VEVENT
BEGIN:VEVENT
DTSTART;VALUE=DATE:20250417
DTEND;VALUE=DATE:20250418
DTSTAMP:20260424T232829
CREATED:20250322T171535Z
LAST-MODIFIED:20250322T181225Z
UID:23048-1744848000-1744934399@visitaiboland.ee
SUMMARY:NAISSAAR Suure Neljapäeva missa Naissaare Püha Maarja kabelis
DESCRIPTION:
URL:https://visitaiboland.ee/sundmus/suure-neljapaeva-missa-naissaare-puha-maarja-kabelis/
END:VEVENT
BEGIN:VEVENT
DTSTART;TZID=Europe/Tallinn:20250413T120000
DTEND;TZID=Europe/Tallinn:20250413T170000
DTSTAMP:20260424T232829
CREATED:20250322T154621Z
LAST-MODIFIED:20250322T180039Z
UID:22980-1744545600-1744563600@visitaiboland.ee
SUMMARY:STOCKHOLM Riguldi/ Noarootsi Kodukandiühingu aastakoosolek Eesti Majas
DESCRIPTION:
URL:https://visitaiboland.ee/sundmus/riguldi-noarootsi-kodukandiuhingu-aastakoosolek-eesti-majas/
END:VEVENT
BEGIN:VEVENT
DTSTART;VALUE=DATE:20250413
DTEND;VALUE=DATE:20250414
DTSTAMP:20260424T232829
CREATED:20250322T154747Z
LAST-MODIFIED:20250322T180145Z
UID:22982-1744502400-1744588799@visitaiboland.ee
SUMMARY:STOCKHOLM Pakri Ühingu aastakoosolek Eesti Majas
DESCRIPTION:Eesti Majas. SOV ruumides\, 2 k.
URL:https://visitaiboland.ee/sundmus/pakri-uhingu-aastakoosolek-eesti-majas/
END:VEVENT
BEGIN:VEVENT
DTSTART;VALUE=DATE:20250412
DTEND;VALUE=DATE:20250413
DTSTAMP:20260424T232829
CREATED:20250322T154500Z
LAST-MODIFIED:20250322T175300Z
UID:22978-1744416000-1744502399@visitaiboland.ee
SUMMARY:STOCKHOLM Vormsi kodukandiühingu OHF aastakoosolek Eesti Majas
DESCRIPTION:
URL:https://visitaiboland.ee/sundmus/vormsi-kodukandiuhingu-ohf-aastakoosolek-eesti-majas/
END:VEVENT
BEGIN:VEVENT
DTSTART;VALUE=DATE:20250405
DTEND;VALUE=DATE:20250406
DTSTAMP:20260424T232829
CREATED:20250322T154333Z
LAST-MODIFIED:20250322T175111Z
UID:22974-1743811200-1743897599@visitaiboland.ee
SUMMARY:STOCKHOLM Eestirootslaste Kultuuriühingu SOV aastakoosolek Eesti Majas
DESCRIPTION:
URL:https://visitaiboland.ee/sundmus/eestirootslaste-kultuuriuhingu-sov-aastakoosolek-eesti-majas-2/
LOCATION:Koosolek\, Sweden
END:VEVENT
BEGIN:VEVENT
DTSTART;VALUE=DATE:20250405
DTEND;VALUE=DATE:20250406
DTSTAMP:20260424T232829
CREATED:20250322T171431Z
LAST-MODIFIED:20250403T090149Z
UID:23046-1743811200-1743897599@visitaiboland.ee
SUMMARY:NAISSAAR Ristitee missa Püha Maarja kabelis
DESCRIPTION:
URL:https://visitaiboland.ee/sundmus/ristiteemissa-puha-maarja-kabelis/
END:VEVENT
BEGIN:VEVENT
DTSTART;TZID=Europe/Tallinn:20250301T120000
DTEND;TZID=Europe/Tallinn:20250301T140000
DTSTAMP:20260424T232829
CREATED:20250130T080419Z
LAST-MODIFIED:20250130T080419Z
UID:22901-1740830400-1740837600@visitaiboland.ee
SUMMARY:HAAPSALU Perepäev Rannarootsi Muuseumi juures
DESCRIPTION:Pere talvepäev\, vastlapäev ja Vanasadama turg. Lastele toredad tegevused. Muuseumikohvik.
URL:https://visitaiboland.ee/sundmus/haapsalu-perepaev-rannarootsi-muuseumi-juures/
END:VEVENT
BEGIN:VEVENT
DTSTART;TZID=Europe/Tallinn:20250212T130000
DTEND;TZID=Europe/Tallinn:20250212T160000
DTSTAMP:20260424T232829
CREATED:20250103T084902Z
LAST-MODIFIED:20250120T100314Z
UID:22761-1739365200-1739376000@visitaiboland.ee
SUMMARY:TALLINN Vähemusrahvuste kultuuriautonoomia seadus saab 100 aastaseks
DESCRIPTION:Kultuuriministeeriumis tutvustab Eesti Post uut marki\, mis on seda sündmust tähistav.
URL:https://visitaiboland.ee/sundmus/vahemusrahvuste-kultuuriautonoomia-seadus-saab-100-aastaseks/
END:VEVENT
BEGIN:VEVENT
DTSTART;TZID=Europe/Tallinn:20250202T140000
DTEND;TZID=Europe/Tallinn:20250202T160000
DTSTAMP:20260424T232829
CREATED:20250130T082755Z
LAST-MODIFIED:20250130T082755Z
UID:22919-1738504800-1738512000@visitaiboland.ee
SUMMARY:TALLINN Loeng \,\,Mis on ühist eestirootslastel ja soomerootslastel?"
DESCRIPTION:Loeng \,\,Mis on ühist eestirootslastel ja soomerootslastel?”. Ettekande teeb Mikael Sjövall. Tallinna Rootsi-Mihkli kirik.
URL:https://visitaiboland.ee/sundmus/tallinn-loeng-mis-on-uhist-eestirootslastel-ja-soomerootslastel/
END:VEVENT
BEGIN:VEVENT
DTSTART;TZID=Europe/Tallinn:20250201T120000
DTEND;TZID=Europe/Tallinn:20250201T160000
DTSTAMP:20260424T232829
CREATED:20250130T080213Z
LAST-MODIFIED:20250130T080213Z
UID:22898-1738411200-1738425600@visitaiboland.ee
SUMMARY:HAAPSALU Loeng Mikael Sjövallilt „Mis on ühist eestirootslastel ja soomerootslastel“
DESCRIPTION:Loeng\, Mikael Sjövall „Mis on ühist eestirootslastel ja soomerootslastel“. Eesti keeles.
URL:https://visitaiboland.ee/sundmus/haapsalu-loeng-mikael-sjovallilt-mis-on-uhist-eestirootslastel-ja-soomerootslastel/
LOCATION:Loeng\, Sadama 32\, Haapsalu\, 90502\, Estonia
END:VEVENT
BEGIN:VEVENT
DTSTART;VALUE=DATE:20241215
DTEND;VALUE=DATE:20241216
DTSTAMP:20260424T232829
CREATED:20240303T211602Z
LAST-MODIFIED:20240303T211602Z
UID:22418-1734220800-1734307199@visitaiboland.ee
SUMMARY:RUHNU perede talvine loodusmatk
DESCRIPTION:
URL:https://visitaiboland.ee/sundmus/ruhnu-perede-talvine-loodusmatk/
END:VEVENT
BEGIN:VEVENT
DTSTART;VALUE=DATE:20241130
DTEND;VALUE=DATE:20241201
DTSTAMP:20260424T232829
CREATED:20240303T211503Z
LAST-MODIFIED:20240303T211503Z
UID:22416-1732924800-1733011199@visitaiboland.ee
SUMMARY:RUHNU  Andreasepäev ehk Ruhnu Kultuuri Päev
DESCRIPTION:
URL:https://visitaiboland.ee/sundmus/ruhnu-andreasepaev-ehk-ruhnu-kultuuri-paev/
END:VEVENT
BEGIN:VEVENT
DTSTART;TZID=Europe/Tallinn:20241005T120000
DTEND;TZID=Europe/Tallinn:20241005T150000
DTSTAMP:20260424T232829
CREATED:20240209T165347Z
LAST-MODIFIED:20240424T101523Z
UID:22302-1728129600-1728140400@visitaiboland.ee
SUMMARY:HAAPSALU/ RANNAROOTSI MUUSEUM  Vanasadama turg
DESCRIPTION:Vanasadama turg ja pärimusmuusika kontsert – esineb soomerootslaste rahvamuusikaansambel Stensöta (Amanda Harald & Jacob Sundström).
URL:https://visitaiboland.ee/sundmus/haapsalu-rannarootsi-muuseum-vanasadama-turg/
END:VEVENT
BEGIN:VEVENT
DTSTART;VALUE=DATE:20241001
DTEND;VALUE=DATE:20241002
DTSTAMP:20260424T232829
CREATED:20240303T211351Z
LAST-MODIFIED:20240303T211351Z
UID:22414-1727740800-1727827199@visitaiboland.ee
SUMMARY:RUHNU Muusikapäev
DESCRIPTION:
URL:https://visitaiboland.ee/sundmus/ruhnu-muusikapaev/
END:VEVENT
BEGIN:VEVENT
DTSTART;VALUE=DATE:20240928
DTEND;VALUE=DATE:20240929
DTSTAMP:20260424T232829
CREATED:20240303T211246Z
LAST-MODIFIED:20240303T211246Z
UID:22412-1727481600-1727567999@visitaiboland.ee
SUMMARY:RUHNU lõikuspidu
DESCRIPTION:
URL:https://visitaiboland.ee/sundmus/ruhnu-loikuspidu/
END:VEVENT
BEGIN:VEVENT
DTSTART;TZID=Europe/Tallinn:20240921T120000
DTEND;TZID=Europe/Tallinn:20240921T120000
DTSTAMP:20260424T232829
CREATED:20240209T165114Z
LAST-MODIFIED:20240920T104747Z
UID:22300-1726920000-1726920000@visitaiboland.ee
SUMMARY:HAAPSALU/ RANNAROOTSI MUUSEUM Suurpõgenemise mälestusüritus. Esineb ansambel Ruhnu saare lood ja laulud
DESCRIPTION:Facebook
URL:https://visitaiboland.ee/sundmus/haapsalu-rannarootsi-muuseum-suurpogenemise-malestusuritus-muusika-ansambel-ruhnu-saare-lood-ja-laulud/
END:VEVENT
BEGIN:VEVENT
DTSTART;VALUE=DATE:20240920
DTEND;VALUE=DATE:20240923
DTSTAMP:20260424T232829
CREATED:20240209T171227Z
LAST-MODIFIED:20240209T171227Z
UID:22310-1726790400-1727049599@visitaiboland.ee
SUMMARY:MUHU/ EESTI SAARTE KOGU Saarte sh Vormsi ja Ruhnu noorte pärimuspäevad
DESCRIPTION:
URL:https://visitaiboland.ee/sundmus/muhu-eesti-saarte-kogu-saarte-sh-vormsi-ja-ruhnu-noorte-parimuspaevad/
END:VEVENT
BEGIN:VEVENT
DTSTART;VALUE=DATE:20240913
DTEND;VALUE=DATE:20240916
DTSTAMP:20260424T232829
CREATED:20240303T210921Z
LAST-MODIFIED:20240303T210921Z
UID:22410-1726185600-1726444799@visitaiboland.ee
SUMMARY:RUHNU metsarahvapäev
DESCRIPTION:
URL:https://visitaiboland.ee/sundmus/ruhnu-metsarahvapaev/
END:VEVENT
BEGIN:VEVENT
DTSTART;TZID=Europe/Tallinn:20240831T110000
DTEND;TZID=Europe/Tallinn:20240831T153000
DTSTAMP:20260424T232829
CREATED:20240815T094051Z
LAST-MODIFIED:20240815T095511Z
UID:22674-1725102000-1725118200@visitaiboland.ee
SUMMARY:Rannarootsi kultuuripäev Nõval
DESCRIPTION:flaier_rannarootsi_kultuuripaev_noval_2024 Vajadusel saame pakkuda laupäeva\, 31. augusti hommikul transporti Nõvale. Solarise juurest väljub auto või mikrobuss (olenevalt sõitjate arvust) 31.08 kell 9 hommikul. Palun andke soovist mulle teada! Tagasisõit ei ole ühiselt korraldatud\, sest inimesed lahkuvad eri aegadel. Buss Tallinna väljub lähedal asuvast Laimi peatusest laupäeval kell 16.15.\nProgramm on vastavalt ilmale Nõva koolimajas kas ainult siseruumides või sees ja väljas (loodetavasti ikka teine variant).\nSündmus rootsikeelsena on Rootsi Hariduse Seltsi FB lehel.
URL:https://visitaiboland.ee/sundmus/rannarootsi-kultuuripaev-noval/
END:VEVENT
BEGIN:VEVENT
DTSTART;TZID=Europe/Tallinn:20240810T120000
DTEND;TZID=Europe/Tallinn:20240810T160000
DTSTAMP:20260424T232829
CREATED:20240209T164915Z
LAST-MODIFIED:20240209T164915Z
UID:22298-1723291200-1723305600@visitaiboland.ee
SUMMARY:RANNAROOTSI MUUSEUMI aias muuseumikohvik. Suur Haapsalu kodukohvikute päeva raames.
DESCRIPTION:
URL:https://visitaiboland.ee/sundmus/rannarootsi-muuseumi-aias-muuseumikohvik-suur-haapsalu-kodukohvikute-paeva-raames/
END:VEVENT
BEGIN:VEVENT
DTSTART;VALUE=DATE:20240807
DTEND;VALUE=DATE:20240812
DTSTAMP:20260424T232829
CREATED:20240304T131222Z
LAST-MODIFIED:20241113T092924Z
UID:22468-1722988800-1723420799@visitaiboland.ee
SUMMARY:VORMSI Talharpalaager
DESCRIPTION:
URL:https://visitaiboland.ee/sundmus/vormsi-talharpalaager/
END:VEVENT
BEGIN:VEVENT
DTSTART;TZID=Europe/Tallinn:20240803T120000
DTEND;TZID=Europe/Tallinn:20240803T150000
DTSTAMP:20260424T232829
CREATED:20240209T164726Z
LAST-MODIFIED:20240218T195654Z
UID:22296-1722686400-1722697200@visitaiboland.ee
SUMMARY:HAAPSALU/ RANNAROOTSI MUUSEUM Suitsukala tegu ja Vanasadama turg
DESCRIPTION:
URL:https://visitaiboland.ee/sundmus/haapsalu-rannarootsi-muuseum-suitsukala-tegu-ja-vanasadama-turg-gamla-hamnens-marknad-rokt-fisk-vid-aibolands-museum/
END:VEVENT
END:VCALENDAR