BEGIN:VCALENDAR
VERSION:2.0
PRODID:-//Aiboland - ECPv6.15.15//NONSGML v1.0//EN
CALSCALE:GREGORIAN
METHOD:PUBLISH
X-WR-CALNAME:Aiboland
X-ORIGINAL-URL:https://visitaiboland.ee
X-WR-CALDESC:Events for Aiboland
REFRESH-INTERVAL;VALUE=DURATION:PT1H
X-Robots-Tag:noindex
X-PUBLISHED-TTL:PT1H
BEGIN:VTIMEZONE
TZID:Europe/Tallinn
BEGIN:DAYLIGHT
TZOFFSETFROM:+0200
TZOFFSETTO:+0300
TZNAME:EEST
DTSTART:20220327T010000
END:DAYLIGHT
BEGIN:STANDARD
TZOFFSETFROM:+0300
TZOFFSETTO:+0200
TZNAME:EET
DTSTART:20221030T010000
END:STANDARD
BEGIN:DAYLIGHT
TZOFFSETFROM:+0200
TZOFFSETTO:+0300
TZNAME:EEST
DTSTART:20230326T010000
END:DAYLIGHT
BEGIN:STANDARD
TZOFFSETFROM:+0300
TZOFFSETTO:+0200
TZNAME:EET
DTSTART:20231029T010000
END:STANDARD
BEGIN:DAYLIGHT
TZOFFSETFROM:+0200
TZOFFSETTO:+0300
TZNAME:EEST
DTSTART:20240331T010000
END:DAYLIGHT
BEGIN:STANDARD
TZOFFSETFROM:+0300
TZOFFSETTO:+0200
TZNAME:EET
DTSTART:20241027T010000
END:STANDARD
END:VTIMEZONE
BEGIN:VEVENT
DTSTART;VALUE=DATE:20230909
DTEND;VALUE=DATE:20230910
DTSTAMP:20260425T133312
CREATED:20230503T144454Z
LAST-MODIFIED:20230610T155248Z
UID:22027-1694217600-1694303999@visitaiboland.ee
SUMMARY:RUHNU keele juurte\, arengu ja tuleviku I konverents
DESCRIPTION:
URL:https://visitaiboland.ee/sundmus/ruhnu-keele-juurte-arengu-ja-tuleviku-i-konverents/
END:VEVENT
BEGIN:VEVENT
DTSTART;TZID=Europe/Tallinn:20230903T113000
DTEND;TZID=Europe/Tallinn:20230903T140000
DTSTAMP:20260425T133312
CREATED:20230323T110506Z
LAST-MODIFIED:20230529T072443Z
UID:21897-1693740600-1693749600@visitaiboland.ee
SUMMARY:VORMSI Talumuuseumis lastehommik - Vormsi kirst
DESCRIPTION:Registreerimine: siilike36@gmail.com \nToimub Vormsi Talumuuseumis Maarja Koppelmaa juhendamisel
URL:https://visitaiboland.ee/sundmus/lastehommik-vormsi-kirst/
END:VEVENT
BEGIN:VEVENT
DTSTART;TZID=Europe/Tallinn:20230826T000000
DTEND;TZID=Europe/Tallinn:20230827T000000
DTSTAMP:20260425T133312
CREATED:20230321T175809Z
LAST-MODIFIED:20230529T072547Z
UID:21845-1693008000-1693094400@visitaiboland.ee
SUMMARY:ROOTSI. Suguvõsauurimispäevad Östersundis
DESCRIPTION:SOV suguvõsa uurimisgrupp on kohal\, et tutvustada kavandeid\, raamatuid\, näitusega Våra anor keskkonnast. Christopher Thiele loeng eestirootslastest ja suguvõsauurimisest.
URL:https://visitaiboland.ee/sundmus/suguvosauurimispaevad-ostersundis-rootsi/
END:VEVENT
BEGIN:VEVENT
DTSTART;TZID=Europe/Tallinn:20230813T113000
DTEND;TZID=Europe/Tallinn:20230813T130000
DTSTAMP:20260425T133312
CREATED:20230323T110259Z
LAST-MODIFIED:20230529T072626Z
UID:21894-1691926200-1691931600@visitaiboland.ee
SUMMARY:VORMSI Talumuuseumis. Lastehommik - kala
DESCRIPTION:Juhendaja: Maarja Koppelmaa\nRegistreerimine: siilike36@gmail.com \nToimumiskoht: Vormsi Talumuuseum
URL:https://visitaiboland.ee/sundmus/lastehommik-kala/
END:VEVENT
BEGIN:VEVENT
DTSTART;TZID=Europe/Tallinn:20230806T113000
DTEND;TZID=Europe/Tallinn:20230806T130000
DTSTAMP:20260425T133312
CREATED:20230323T110126Z
LAST-MODIFIED:20230529T072709Z
UID:21891-1691321400-1691326800@visitaiboland.ee
SUMMARY:VORMSI Talumuuseumis. Lastehommik - vitraaž ja Vormsi kiriku aken
DESCRIPTION:Juhendaja: Maarja Koppelmaa\nRegistreerimine: siilike36@gmail.com \nToimumiskoht: Vormsi Talumuuseum
URL:https://visitaiboland.ee/sundmus/lastehommik-vitraaz-ja-vormsi-kiriku-aken/
END:VEVENT
BEGIN:VEVENT
DTSTART;VALUE=DATE:20230806
DTEND;VALUE=DATE:20230807
DTSTAMP:20260425T133312
CREATED:20230405T130237Z
LAST-MODIFIED:20230529T072737Z
UID:21982-1691280000-1691366399@visitaiboland.ee
SUMMARY:VILIVALLA kalmistupüha
DESCRIPTION:
URL:https://visitaiboland.ee/sundmus/vilivalla-kalmistupuha/
END:VEVENT
BEGIN:VEVENT
DTSTART;TZID=Europe/Tallinn:20230805T000000
DTEND;TZID=Europe/Tallinn:20230806T000000
DTSTAMP:20260425T133312
CREATED:20230323T105940Z
LAST-MODIFIED:20230529T072407Z
UID:21889-1691193600-1691280000@visitaiboland.ee
SUMMARY:VORMSI Rootsi punase keeduvärvi valmistamise ja Norjase värvimise töötuba
DESCRIPTION:Juhendaja: Rutt Veide\, Henry Timusk\nRegistreerimine: siilike36@gmail.com
URL:https://visitaiboland.ee/sundmus/rootsi-punase-keeduvarvi-valmistamise-ja-norjase-varvimise-tootuba/
END:VEVENT
BEGIN:VEVENT
DTSTART;VALUE=DATE:20230805
DTEND;VALUE=DATE:20230806
DTSTAMP:20260425T133312
CREATED:20230518T132007Z
LAST-MODIFIED:20230529T072839Z
UID:22048-1691193600-1691279999@visitaiboland.ee
SUMMARY:HAAPSALU. Suitsukala tegu ja Vanasadama turg. Pärimusmuusika kontsert - esineb soomerootslaste rahvamuusikaansambel Stenrösa (Amanda Harald & Jacob Sundström)
DESCRIPTION:Üritus toimub Rannarootsi Muuseumis.
URL:https://visitaiboland.ee/sundmus/suitsukala-tegu-ja-vanasadama-turg-parimusmuusika-kontsert-esineb-soomerootslaste-rahvamuusikaansambel-stenrosa-amanda-harald-jacob-sundstrom/
END:VEVENT
BEGIN:VEVENT
DTSTART;VALUE=DATE:20230729
DTEND;VALUE=DATE:20230730
DTSTAMP:20260425T133312
CREATED:20230316T135659Z
LAST-MODIFIED:20230529T072914Z
UID:21814-1690588800-1690675199@visitaiboland.ee
SUMMARY:VORMSI Olavipäev
DESCRIPTION:Vormsi\, vormsilaste ja vormsirootslaste iga-aastane pidupäev
URL:https://visitaiboland.ee/sundmus/olavipaev-vormsil/
END:VEVENT
BEGIN:VEVENT
DTSTART;VALUE=DATE:20230729
DTEND;VALUE=DATE:20230730
DTSTAMP:20260425T133312
CREATED:20230316T103229Z
LAST-MODIFIED:20230529T072947Z
UID:21799-1690588800-1690675199@visitaiboland.ee
SUMMARY:KURKSE külapäev
DESCRIPTION:MTÜ Kurkse külaselts ootab külapäevale juurtest ja kohaajaloost huvitatuid inimesi.
URL:https://visitaiboland.ee/sundmus/kurkse-kulapaev/
END:VEVENT
BEGIN:VEVENT
DTSTART;TZID=Europe/Tallinn:20230728T230000
DTEND;TZID=Europe/Tallinn:20230728T230000
DTSTAMP:20260425T133312
CREATED:20230316T135846Z
LAST-MODIFIED:20230529T073026Z
UID:21816-1690585200-1690585200@visitaiboland.ee
SUMMARY:VORMSI. Kesköömissa Vormsi kirikus
DESCRIPTION:
URL:https://visitaiboland.ee/sundmus/keskoomissa-vormsi-kirikus/
END:VEVENT
BEGIN:VEVENT
DTSTART;VALUE=DATE:20230728
DTEND;VALUE=DATE:20230729
DTSTAMP:20260425T133312
CREATED:20230323T105553Z
LAST-MODIFIED:20230529T073059Z
UID:21885-1690502400-1690588799@visitaiboland.ee
SUMMARY:VORMSI. Rälby küla Olavipäeva laat
DESCRIPTION:
URL:https://visitaiboland.ee/sundmus/ralby-kula-olavipaeva-laat/
END:VEVENT
BEGIN:VEVENT
DTSTART;VALUE=DATE:20230727
DTEND;VALUE=DATE:20230728
DTSTAMP:20260425T133312
CREATED:20230612T181846Z
LAST-MODIFIED:20230612T181846Z
UID:22190-1690416000-1690502399@visitaiboland.ee
SUMMARY:RUHNU Helmekeede valmistamise õpituba kultuuriaidas
DESCRIPTION:
URL:https://visitaiboland.ee/sundmus/ruhnu-helmekeede-valmistamise-opituba-kultuuriaidas/
END:VEVENT
BEGIN:VEVENT
DTSTART;TZID=Europe/Tallinn:20230723T113000
DTEND;TZID=Europe/Tallinn:20230723T130000
DTSTAMP:20260425T133312
CREATED:20230323T105223Z
LAST-MODIFIED:20230529T073311Z
UID:21882-1690111800-1690117200@visitaiboland.ee
SUMMARY:VORMSI Talumuuseumis lastehommik - puust ruup ja Vormsi laevad
DESCRIPTION:Vormsi Talumuuseumis toimub Maarja Koppelmaa juhendamisel. \nRegistreerimine: siilike36@gmail.com
URL:https://visitaiboland.ee/sundmus/lastehommik-puust-ruup-ja-vormsi-laevad/
END:VEVENT
BEGIN:VEVENT
DTSTART;VALUE=DATE:20230722
DTEND;VALUE=DATE:20230723
DTSTAMP:20260425T133312
CREATED:20230405T125943Z
LAST-MODIFIED:20230529T073538Z
UID:21980-1689984000-1690070399@visitaiboland.ee
SUMMARY:RUHNU. Maarja Magdaleena päev
DESCRIPTION:
URL:https://visitaiboland.ee/sundmus/maarja-magdaleena-paev-ruhnus/
END:VEVENT
BEGIN:VEVENT
DTSTART;VALUE=DATE:20230719
DTEND;VALUE=DATE:20230727
DTSTAMP:20260425T133312
CREATED:20230314T071954Z
LAST-MODIFIED:20230612T181604Z
UID:21791-1689724800-1690415999@visitaiboland.ee
SUMMARY:RUHNU viiulilaager
DESCRIPTION:Ruhnu viiulilaager tähistab tuleval suvel 10. toimumiskorda! Nende aastatega on laager kujunenud Ruhnu saarel oodatuimaks kultuurisündmuseks. Laager elavdab muusikaelu saarel ja panustab järjekindlalt ruhnurootsi muusika ja kultuuri hoidmisse. Ruhnu viiulilaagri eripäraks on peale omakultuuri populariseerimise ka ülimalt kõrgetasemeline välismaiste õpetajate ja artistide osalus õppetöös ja laagri kontsertidel. Igal aastal toob laager saarele nädalaks kokku 40 viiuldajat ja muusikut. Laagri korraldajad ja õpetajad on Karoliina Kreintaal\, Kairi Leivo\, Lee Taul ja Sänni Noormets. (Tekst:Hooandjas. Kairi Leivo projekt)
URL:https://visitaiboland.ee/sundmus/ruhnu-viiulilaager/
LOCATION:Festival\, Ruhnu vald\, Ruhnu saar\, Eesti
END:VEVENT
BEGIN:VEVENT
DTSTART;VALUE=DATE:20230716
DTEND;VALUE=DATE:20230717
DTSTAMP:20260425T133312
CREATED:20230518T130205Z
LAST-MODIFIED:20230529T073453Z
UID:22032-1689465600-1689551999@visitaiboland.ee
SUMMARY:NAISSAARE surnuaiapüha ja jumalateenistus Maarja kirikus
DESCRIPTION:Jumalateenistus algab kl 12.
URL:https://visitaiboland.ee/sundmus/naissaare-surnuaiapuha/
END:VEVENT
BEGIN:VEVENT
DTSTART;TZID=Europe/Tallinn:20230714T113000
DTEND;TZID=Europe/Tallinn:20230714T130000
DTSTAMP:20260425T133312
CREATED:20230323T105002Z
LAST-MODIFIED:20230529T073630Z
UID:21880-1689334200-1689339600@visitaiboland.ee
SUMMARY:VORMSI. Lastehommik - viikingite villavaip
DESCRIPTION:Toimub Vormsi Talumuuseumis. \nSörve villaveski\nRegistreerimine: siilike36@gmail.com
URL:https://visitaiboland.ee/sundmus/lastehommik-viikingite-villavaip/
END:VEVENT
BEGIN:VEVENT
DTSTART;VALUE=DATE:20230712
DTEND;VALUE=DATE:20230715
DTSTAMP:20260425T133312
CREATED:20230612T181422Z
LAST-MODIFIED:20230612T181422Z
UID:22185-1689120000-1689379199@visitaiboland.ee
SUMMARY:RUHNU Vokkide korrastamise õpituba\, spinntalko kultuuriaidas
DESCRIPTION:
URL:https://visitaiboland.ee/sundmus/ruhnu-vokkide-korrastamise-opituba-spinntalko-kultuuriaidas/
END:VEVENT
BEGIN:VEVENT
DTSTART;TZID=Europe/Tallinn:20230710T000000
DTEND;TZID=Europe/Tallinn:20230713T000000
DTSTAMP:20260425T133312
CREATED:20230323T100020Z
LAST-MODIFIED:20230529T073709Z
UID:21878-1688947200-1689206400@visitaiboland.ee
SUMMARY:VORMSI villapäevad: lõnga ketramine ja looduslik värvimine\, tapitelje tegemine ja villavaip.
DESCRIPTION:Vormsi Farm Museum\, Sviby küla Pearse talu\, Sviby\, 91313 Lääne maakond\, Estonia \nSörve villaveski \n\nRegistreerimine: siilike36@gmail.com
URL:https://visitaiboland.ee/sundmus/vormsi-villapaevad-longa-ketramine-ja-looduslik-varvimine-tapitelje-tegemine-ja-villavaip/
END:VEVENT
BEGIN:VEVENT
DTSTART;TZID=Europe/Tallinn:20230708T110000
DTEND;TZID=Europe/Tallinn:20230708T170000
DTSTAMP:20260425T133312
CREATED:20230609T102023Z
LAST-MODIFIED:20230609T102226Z
UID:22136-1688814000-1688835600@visitaiboland.ee
SUMMARY:NOAROOTSI Kohvikutepäev Miku talus
DESCRIPTION:
URL:https://visitaiboland.ee/sundmus/miku-talu-kohvikutepaeval/
END:VEVENT
BEGIN:VEVENT
DTSTART;VALUE=DATE:20230708
DTEND;VALUE=DATE:20230709
DTSTAMP:20260425T133312
CREATED:20230323T095658Z
LAST-MODIFIED:20230529T073751Z
UID:21874-1688774400-1688860799@visitaiboland.ee
SUMMARY:VORMSI. Kohvikutepäev
DESCRIPTION:Suur seltsimise ja maitsete päev vormsilaste kodudes.
URL:https://visitaiboland.ee/sundmus/kohvikutepaev/
END:VEVENT
BEGIN:VEVENT
DTSTART;TZID=Europe/Tallinn:20230703T000000
DTEND;TZID=Europe/Tallinn:20230707T000000
DTSTAMP:20260425T133312
CREATED:20230323T095551Z
LAST-MODIFIED:20230529T072156Z
UID:21872-1688342400-1688688000@visitaiboland.ee
SUMMARY:VORMSI puutöö päevad: 5-päevane Vormsi tooli tegu ja päevased puutööd + loeng
DESCRIPTION:Vormsi Talumuuseumis puutöö õpitoad ja loeng. \n03.07 toimub muuseumis õhtul kell 19 ka loeng „Vormsi saare puidust tarberiistad Eesti muuseumides“. Sissepääas muusemi piletiga.\nKõiki tegevusi saab muuseumisse ka niisama vaatama tulla (muuseumi piletiga).\nLink ja täpsem info: http://tootoad.blogspot.com/2023/02/3-8-juulil-vormsi-puutoopaevad.html\nJuhendaja: Meelis Kihulane\nRegistreerimine: siilike36@gmail.com
URL:https://visitaiboland.ee/sundmus/vormsi-puutoo-paevad-5-paevane-vormsi-tooli-tegu-ja-paevased-puutood-loeng/
END:VEVENT
BEGIN:VEVENT
DTSTART;TZID=Europe/Tallinn:20230702T113000
DTEND;TZID=Europe/Tallinn:20230702T130000
DTSTAMP:20260425T133312
CREATED:20230323T095032Z
LAST-MODIFIED:20230529T073851Z
UID:21867-1688297400-1688302800@visitaiboland.ee
SUMMARY:VORMSI Talumuuseumis lastehommik - Vormsi pulmatäht
DESCRIPTION:Vormsi Talumuuseumis toimub juhendaja Maarja Koppelmaa juhendamisel lastehommik.
URL:https://visitaiboland.ee/sundmus/latehommik-vormsi-pulmataht/
END:VEVENT
BEGIN:VEVENT
DTSTART;VALUE=DATE:20230701
DTEND;VALUE=DATE:20230702
DTSTAMP:20260425T133312
CREATED:20230209T130304Z
LAST-MODIFIED:20230209T130319Z
UID:21726-1688169600-1688255999@visitaiboland.ee
SUMMARY:HAAPSALU NOAROOTSI merepäevad
DESCRIPTION:
URL:https://visitaiboland.ee/sundmus/haapsalu-noarootsi-merepaevad/
END:VEVENT
BEGIN:VEVENT
DTSTART;TZID=Europe/Tallinn:20230625T113000
DTEND;TZID=Europe/Tallinn:20230625T130000
DTSTAMP:20260425T133312
CREATED:20230323T094834Z
LAST-MODIFIED:20230529T073938Z
UID:21864-1687692600-1687698000@visitaiboland.ee
SUMMARY:VORMSI. Lastehommik-ussisaar Vormsi
DESCRIPTION:Vormsi Talumuuseumis toimub lastehommik Maarja Koppelmaa juhendamisel. Registreerimine: siilike36@gmail.com
URL:https://visitaiboland.ee/sundmus/lastehommik-ussisaar-vormsi/
END:VEVENT
BEGIN:VEVENT
DTSTART;VALUE=DATE:20230625
DTEND;VALUE=DATE:20230626
DTSTAMP:20260425T133312
CREATED:20230518T130037Z
LAST-MODIFIED:20230529T074436Z
UID:22030-1687651200-1687737599@visitaiboland.ee
SUMMARY:NAISSAAR. Jumalateenistus ja laulupidu Naissaarel
DESCRIPTION:
URL:https://visitaiboland.ee/sundmus/jumalateenistus-ja-laulupidu-naissaarel/
END:VEVENT
BEGIN:VEVENT
DTSTART;TZID=Europe/Tallinn:20230624T120000
DTEND;TZID=Europe/Tallinn:20230624T120000
DTSTAMP:20260425T133312
CREATED:20230316T102837Z
LAST-MODIFIED:20230529T074725Z
UID:21797-1687608000-1687608000@visitaiboland.ee
SUMMARY:VÄIKE-PAKRI. Kirikupäev Väike-Pakri kabelitorni juures
DESCRIPTION:Väike-Pakri kabelitorni juures toimub traditsiooniline kirikupäev.
URL:https://visitaiboland.ee/sundmus/kirikupaev-vaike-pakril/
LOCATION:Jumalateenistus\, Naissaar\, Eesti
END:VEVENT
BEGIN:VEVENT
DTSTART;VALUE=DATE:20230610
DTEND;VALUE=DATE:20230611
DTSTAMP:20260425T133312
CREATED:20230503T120832Z
LAST-MODIFIED:20230529T074614Z
UID:22024-1686355200-1686441599@visitaiboland.ee
SUMMARY:VORMSI Talumuuseumis. Tõrvavärvi valmistamise ja laudade valmistamise kursus
DESCRIPTION:Juhendaja: Rutt Veide
URL:https://visitaiboland.ee/sundmus/torvavarvi-valmistamise-ja-laudade-valmistamise-kursus/
LOCATION:Töötuba
END:VEVENT
BEGIN:VEVENT
DTSTART;TZID=Europe/Tallinn:20230607T180000
DTEND;TZID=Europe/Tallinn:20230607T180000
DTSTAMP:20260425T133312
CREATED:20230209T125718Z
LAST-MODIFIED:20230209T125923Z
UID:21722-1686160800-1686160800@visitaiboland.ee
SUMMARY:HAAPSALU Pärimusmuusika kontsert ja kohvik
DESCRIPTION:Rannarootsi Muuseumis esinevad ansambel Leik ja Andre Maaker. Piletiga.
URL:https://visitaiboland.ee/sundmus/haapsalu-parimusmuusika-kontsert-ja-kohvik/
END:VEVENT
END:VCALENDAR