BEGIN:VCALENDAR
VERSION:2.0
PRODID:-//Aiboland - ECPv6.15.15//NONSGML v1.0//EN
CALSCALE:GREGORIAN
METHOD:PUBLISH
X-ORIGINAL-URL:https://visitaiboland.ee
X-WR-CALDESC:Events for Aiboland
REFRESH-INTERVAL;VALUE=DURATION:PT1H
X-Robots-Tag:noindex
X-PUBLISHED-TTL:PT1H
BEGIN:VTIMEZONE
TZID:Europe/Tallinn
BEGIN:DAYLIGHT
TZOFFSETFROM:+0200
TZOFFSETTO:+0300
TZNAME:EEST
DTSTART:20240331T010000
END:DAYLIGHT
BEGIN:STANDARD
TZOFFSETFROM:+0300
TZOFFSETTO:+0200
TZNAME:EET
DTSTART:20241027T010000
END:STANDARD
BEGIN:DAYLIGHT
TZOFFSETFROM:+0200
TZOFFSETTO:+0300
TZNAME:EEST
DTSTART:20250330T010000
END:DAYLIGHT
BEGIN:STANDARD
TZOFFSETFROM:+0300
TZOFFSETTO:+0200
TZNAME:EET
DTSTART:20251026T010000
END:STANDARD
BEGIN:DAYLIGHT
TZOFFSETFROM:+0200
TZOFFSETTO:+0300
TZNAME:EEST
DTSTART:20260329T010000
END:DAYLIGHT
BEGIN:STANDARD
TZOFFSETFROM:+0300
TZOFFSETTO:+0200
TZNAME:EET
DTSTART:20261025T010000
END:STANDARD
END:VTIMEZONE
BEGIN:VEVENT
DTSTART;VALUE=DATE:20251221
DTEND;VALUE=DATE:20251222
DTSTAMP:20260424T181749
CREATED:20250322T170838Z
LAST-MODIFIED:20250322T170838Z
UID:23042-1766275200-1766361599@visitaiboland.ee
SUMMARY:Neljas advent
DESCRIPTION:
URL:https://visitaiboland.ee/sundmus/neljas-advent/
END:VEVENT
BEGIN:VEVENT
DTSTART;VALUE=DATE:20251214
DTEND;VALUE=DATE:20251215
DTSTAMP:20260424T181749
CREATED:20250322T170758Z
LAST-MODIFIED:20250322T170758Z
UID:23040-1765670400-1765756799@visitaiboland.ee
SUMMARY:Kolmas advent
DESCRIPTION:
URL:https://visitaiboland.ee/sundmus/kolmas-advent/
END:VEVENT
BEGIN:VEVENT
DTSTART;VALUE=DATE:20251207
DTEND;VALUE=DATE:20251208
DTSTAMP:20260424T181749
CREATED:20250322T170724Z
LAST-MODIFIED:20250322T170724Z
UID:23038-1765065600-1765151999@visitaiboland.ee
SUMMARY:Teine advent
DESCRIPTION:
URL:https://visitaiboland.ee/sundmus/teine-advent/
END:VEVENT
BEGIN:VEVENT
DTSTART;VALUE=DATE:20251130
DTEND;VALUE=DATE:20251201
DTSTAMP:20260424T181749
CREATED:20250322T170651Z
LAST-MODIFIED:20250322T170651Z
UID:23036-1764460800-1764547199@visitaiboland.ee
SUMMARY:Esimene advent
DESCRIPTION:
URL:https://visitaiboland.ee/sundmus/esimene-advent/
END:VEVENT
BEGIN:VEVENT
DTSTART;TZID=Europe/Tallinn:20251106T120000
DTEND;TZID=Europe/Tallinn:20251108T183000
DTSTAMP:20260424T181749
CREATED:20241113T101452Z
LAST-MODIFIED:20250103T104410Z
UID:22737-1762430400-1762626600@visitaiboland.ee
SUMMARY:TALLINN ERKLi Mardilaat - peakülaline Aiboland
DESCRIPTION:2025.a. Mardilaada peakülaline on Aiboland – saarerahva/rannarootslaste kodu (Ruhnust Naissaareni ja rannikuala Noarootsist ja Haapsalust Tallinani).
URL:https://visitaiboland.ee/sundmus/erkl-mardilaat-peakulaline-aiboland/
ORGANIZER;CN="Eesti K%C3%A4sit%C3%B6%C3%B6 ja Rahvakunsti Liit":MAILTO:info@folkart.ee
END:VEVENT
BEGIN:VEVENT
DTSTART;VALUE=DATE:20250829
DTEND;VALUE=DATE:20250830
DTSTAMP:20260424T181749
CREATED:20250322T170532Z
LAST-MODIFIED:20250322T170532Z
UID:23034-1756425600-1756511999@visitaiboland.ee
SUMMARY:Muinastulede öö Vormsil
DESCRIPTION:
URL:https://visitaiboland.ee/sundmus/muinastulede-oo-vormsil/
END:VEVENT
BEGIN:VEVENT
DTSTART;VALUE=DATE:20250822
DTEND;VALUE=DATE:20250825
DTSTAMP:20260424T181749
CREATED:20250515T111821Z
LAST-MODIFIED:20250515T111821Z
UID:23524-1755820800-1756079999@visitaiboland.ee
SUMMARY:Festival Ruhnu Rahu
DESCRIPTION:
URL:https://visitaiboland.ee/sundmus/festival-ruhnu-rahu/
END:VEVENT
BEGIN:VEVENT
DTSTART;VALUE=DATE:20250820
DTEND;VALUE=DATE:20250821
DTSTAMP:20260424T181749
CREATED:20250322T170421Z
LAST-MODIFIED:20250322T170421Z
UID:23032-1755648000-1755734399@visitaiboland.ee
SUMMARY:Eesti taasiseseisvumispäev
DESCRIPTION:
URL:https://visitaiboland.ee/sundmus/eesti-taasiseseisvumispaev/
END:VEVENT
BEGIN:VEVENT
DTSTART;VALUE=DATE:20250816
DTEND;VALUE=DATE:20250817
DTSTAMP:20260424T181749
CREATED:20250711T113350Z
LAST-MODIFIED:20250711T113350Z
UID:23694-1755302400-1755388799@visitaiboland.ee
SUMMARY:Raamatu \,\,Bernhard Schmidt - leiutaja Naissaarelt" esitlus Astronoomiafestivalil
DESCRIPTION:Bernhard Schmidti teaduslik-tehnilist pärandit tutvustab ja raamatut tutvustab Ivar Rüütli Astronoomifestivalil Kava – Astronoomiafestival 2025
URL:https://visitaiboland.ee/sundmus/raamatu-bernhard-schmidt-leiutaja-naissaarelt-esitlus-astronoomiafestivalil/
END:VEVENT
BEGIN:VEVENT
DTSTART;TZID=Europe/Tallinn:20250809T180000
DTEND;TZID=Europe/Tallinn:20250809T200000
DTSTAMP:20260424T181749
CREATED:20250322T170309Z
LAST-MODIFIED:20250322T170309Z
UID:23030-1754762400-1754769600@visitaiboland.ee
SUMMARY:Rahvatantsurühm Vormsi 33
DESCRIPTION:Rahvatansturühm peab 33. sünnipäeva.
URL:https://visitaiboland.ee/sundmus/rahvatantsuruhm-vormsi-33/
END:VEVENT
BEGIN:VEVENT
DTSTART;TZID=Europe/Tallinn:20250809T120000
DTEND;TZID=Europe/Tallinn:20250809T150000
DTSTAMP:20260424T181749
CREATED:20250130T082144Z
LAST-MODIFIED:20250130T082144Z
UID:22912-1754740800-1754751600@visitaiboland.ee
SUMMARY:HAAPSALU Suitsukala tegu
DESCRIPTION:Suitsukala tegu ja Vanasadama turg Rannarootsi Muuseumi juures.
URL:https://visitaiboland.ee/sundmus/haapsalu-suitsukala-tegu/
END:VEVENT
BEGIN:VEVENT
DTSTART;VALUE=DATE:20250801
DTEND;VALUE=DATE:20250802
DTSTAMP:20260424T181749
CREATED:20250212T173308Z
LAST-MODIFIED:20250212T173308Z
UID:22954-1754006400-1754092799@visitaiboland.ee
SUMMARY:ERMi rannarootslastest jutustava näituse rootsikeelne tuur
DESCRIPTION:
URL:https://visitaiboland.ee/sundmus/ermi-rannarootslastest-jutustava-naituse-rootsikeelne-tuur/
END:VEVENT
BEGIN:VEVENT
DTSTART;TZID=Europe/Tallinn:20250729T150000
DTEND;TZID=Europe/Tallinn:20250729T160000
DTSTAMP:20260424T181749
CREATED:20250322T165914Z
LAST-MODIFIED:20250322T165914Z
UID:23028-1753801200-1753804800@visitaiboland.ee
SUMMARY:Fika Vormsi Talumuuseumis
DESCRIPTION:
URL:https://visitaiboland.ee/sundmus/fika-vormsi-talumuuseumis/
END:VEVENT
BEGIN:VEVENT
DTSTART;TZID=Europe/Tallinn:20250729T130000
DTEND;TZID=Europe/Tallinn:20250729T140000
DTSTAMP:20260424T181749
CREATED:20250322T165813Z
LAST-MODIFIED:20250322T165813Z
UID:23026-1753794000-1753797600@visitaiboland.ee
SUMMARY:Pidupäeva ühine supisöömine Vormsi kirikaias
DESCRIPTION:
URL:https://visitaiboland.ee/sundmus/pidupaeva-uhine-supisoomine-vormsi-kirikaias/
END:VEVENT
BEGIN:VEVENT
DTSTART;TZID=Europe/Tallinn:20250729T120000
DTEND;TZID=Europe/Tallinn:20250729T130000
DTSTAMP:20260424T181749
CREATED:20250322T165706Z
LAST-MODIFIED:20250322T165706Z
UID:23024-1753790400-1753794000@visitaiboland.ee
SUMMARY:Püha Olavi kiriku taaspühitsemise 35. aastapäevale pühendatud jumalateenistus
DESCRIPTION:
URL:https://visitaiboland.ee/sundmus/puha-olavi-kiriku-taaspuhitsemise-35-aastapaevale-puhendatud-jumalateenistus/
END:VEVENT
BEGIN:VEVENT
DTSTART;VALUE=DATE:20250729
DTEND;VALUE=DATE:20250730
DTSTAMP:20260424T181749
CREATED:20250103T093043Z
LAST-MODIFIED:20250103T093128Z
UID:22782-1753747200-1753833599@visitaiboland.ee
SUMMARY:VORMSI Olavipäeva jumalateenistus
DESCRIPTION:
URL:https://visitaiboland.ee/sundmus/vormsi/
END:VEVENT
BEGIN:VEVENT
DTSTART;TZID=Europe/Tallinn:20250728T220000
DTEND;TZID=Europe/Tallinn:20250729T000000
DTSTAMP:20260424T181749
CREATED:20250322T165426Z
LAST-MODIFIED:20250322T165426Z
UID:23020-1753740000-1753747200@visitaiboland.ee
SUMMARY:Öömissa Püha Olavi kirikus
DESCRIPTION:
URL:https://visitaiboland.ee/sundmus/oomissa-puha-olavi-kirikus/
END:VEVENT
BEGIN:VEVENT
DTSTART;TZID=Europe/Tallinn:20250728T210000
DTEND;TZID=Europe/Tallinn:20250728T220000
DTSTAMP:20260424T181749
CREATED:20250322T165327Z
LAST-MODIFIED:20250322T165327Z
UID:23018-1753736400-1753740000@visitaiboland.ee
SUMMARY:Ansambel Vox Clamantis kontsert Püha Olavi kirikus
DESCRIPTION:
URL:https://visitaiboland.ee/sundmus/ansambel-vox-clamantis-kontsert-puha-olavi-kirikus/
END:VEVENT
BEGIN:VEVENT
DTSTART;VALUE=DATE:20250728
DTEND;VALUE=DATE:20250730
DTSTAMP:20260424T181749
CREATED:20250103T093801Z
LAST-MODIFIED:20250103T093801Z
UID:22785-1753660800-1753833599@visitaiboland.ee
SUMMARY:VORMSI Vormsi Talumuuseum tähistab 25-ndat juubelit
DESCRIPTION:
URL:https://visitaiboland.ee/sundmus/vormsi-vormsi-talumuuseum-tahistab-25-ndat-juubelit/
END:VEVENT
BEGIN:VEVENT
DTSTART;VALUE=DATE:20250728
DTEND;VALUE=DATE:20250729
DTSTAMP:20260424T181749
CREATED:20250103T104121Z
LAST-MODIFIED:20250103T104121Z
UID:22789-1753660800-1753747199@visitaiboland.ee
SUMMARY:VORMSI Öine teenistus Püha Olavi kirikus ja surnuaial küünalde asetamine
DESCRIPTION:
URL:https://visitaiboland.ee/sundmus/vormsi-oine-teenistus-puha-olavi-kirikus-ja-surnuaial-kuunalde-asetamine/
END:VEVENT
BEGIN:VEVENT
DTSTART;TZID=Europe/Tallinn:20250727T170000
DTEND;TZID=Europe/Tallinn:20250727T180000
DTSTAMP:20260424T181749
CREATED:20250322T163718Z
LAST-MODIFIED:20250322T163718Z
UID:23016-1753635600-1753639200@visitaiboland.ee
SUMMARY:Kontsert Vormsi kirikus
DESCRIPTION:Esinevad Johanna Liisa ja Jaan Kullerkupp
URL:https://visitaiboland.ee/sundmus/kontsert-vormsi-kirikus/
END:VEVENT
BEGIN:VEVENT
DTSTART;TZID=Europe/Tallinn:20250727T110000
DTEND;TZID=Europe/Tallinn:20250727T120000
DTSTAMP:20260424T181749
CREATED:20250322T163538Z
LAST-MODIFIED:20250322T163538Z
UID:23014-1753614000-1753617600@visitaiboland.ee
SUMMARY:Olavipäeva jumalateenistus Vormsi kirikus
DESCRIPTION:
URL:https://visitaiboland.ee/sundmus/olavipaeva-jumalateenistus-vormsi-kirikus/
END:VEVENT
BEGIN:VEVENT
DTSTART;VALUE=DATE:20250727
DTEND;VALUE=DATE:20250728
DTSTAMP:20260424T181749
CREATED:20250322T165545Z
LAST-MODIFIED:20250322T192952Z
UID:23022-1753574400-1753660799@visitaiboland.ee
SUMMARY:NAISSAAR Jumalateenistus Naissaare kabelis ja palvus kalmistul
DESCRIPTION:
URL:https://visitaiboland.ee/sundmus/jumalateenistus-naissaare-kirikus-ja-palvus-kalmistul/
END:VEVENT
BEGIN:VEVENT
DTSTART;TZID=Europe/Tallinn:20250726T130000
DTEND;TZID=Europe/Tallinn:20250726T180000
DTSTAMP:20260424T181749
CREATED:20250103T104229Z
LAST-MODIFIED:20250421T080514Z
UID:22791-1753534800-1753552800@visitaiboland.ee
SUMMARY:VORMSI Üritus Vormsi kirst Pears talus
DESCRIPTION:Koguneme Vormsi Talumuuseumis. Esimene kogunemine on üritusele registreerunutele kl 13-16.30 ja teine kogunemine laulude ja lugudega kl 17-18. Täpsem programm lisandub peatselt.
URL:https://visitaiboland.ee/sundmus/vormsi-uritus-vormsi-kirst-kuupaev-esialgne/
END:VEVENT
BEGIN:VEVENT
DTSTART;VALUE=DATE:20250726
DTEND;VALUE=DATE:20250727
DTSTAMP:20260424T181749
CREATED:20250322T163303Z
LAST-MODIFIED:20250322T192607Z
UID:23010-1753488000-1753574399@visitaiboland.ee
SUMMARY:VORMSI Rälby Olavipäeva laat
DESCRIPTION:
URL:https://visitaiboland.ee/sundmus/ralby-olavipaeva-laat/
END:VEVENT
BEGIN:VEVENT
DTSTART;TZID=Europe/Tallinn:20250722T160000
DTEND;TZID=Europe/Tallinn:20250722T180000
DTSTAMP:20260424T181749
CREATED:20250711T112535Z
LAST-MODIFIED:20250711T112748Z
UID:23690-1753200000-1753207200@visitaiboland.ee
SUMMARY:Raamatu \,\,Rannarootslaste rahvarõivad" esimene esitlus Tallinnas
DESCRIPTION:22.juulil kl 16 toimub raamatuesitlus Tallinna Rootsi-Mihkli koguduse Olavisaalis.
URL:https://visitaiboland.ee/sundmus/raamatu-rannarootslaste-rahvaroivad-esimene-esitlus-tallinnas/
END:VEVENT
BEGIN:VEVENT
DTSTART;VALUE=DATE:20250722
DTEND;VALUE=DATE:20250723
DTSTAMP:20260424T181749
CREATED:20250711T112655Z
LAST-MODIFIED:20250711T112655Z
UID:23692-1753142400-1753228799@visitaiboland.ee
SUMMARY:Raamatu \,\,Rannarootslaste rahvarõivad" esitlus Ruhnus
DESCRIPTION:
URL:https://visitaiboland.ee/sundmus/raamatu-rannarootslaste-rahvaroivad-esitlus-ruhnus/
END:VEVENT
BEGIN:VEVENT
DTSTART;VALUE=DATE:20250720
DTEND;VALUE=DATE:20250721
DTSTAMP:20260424T181749
CREATED:20250511T080300Z
LAST-MODIFIED:20250520T081554Z
UID:23521-1752969600-1753055999@visitaiboland.ee
SUMMARY:Vilivalla kalmistupüha
DESCRIPTION:20. juulil avatakse näitus piirkonna ajaloost.
URL:https://visitaiboland.ee/sundmus/vilivalla-kalmistupuha-2/
END:VEVENT
BEGIN:VEVENT
DTSTART;VALUE=DATE:20250714
DTEND;VALUE=DATE:20250715
DTSTAMP:20260424T181749
CREATED:20250527T090848Z
LAST-MODIFIED:20250527T090848Z
UID:23546-1752451200-1752537599@visitaiboland.ee
SUMMARY:Pakri VIII üldkogu
DESCRIPTION:
URL:https://visitaiboland.ee/sundmus/pakri-viii-uldkogu/
END:VEVENT
BEGIN:VEVENT
DTSTART;VALUE=DATE:20250713
DTEND;VALUE=DATE:20250714
DTSTAMP:20260424T181749
CREATED:20250520T081723Z
LAST-MODIFIED:20250520T081723Z
UID:23540-1752364800-1752451199@visitaiboland.ee
SUMMARY:Jumalateenistused Väike- ja Suur-Pakril
DESCRIPTION:
URL:https://visitaiboland.ee/sundmus/jumalateenistused-vaike-ja-suur-pakril/
END:VEVENT
END:VCALENDAR